Workbook

Sheet Профили Хром+
A1: ПрофилиХром+
A2: №стр.каталога | B2: Категория | C2: Штрихкод | D2: Кодтовара | E2: Наименование | F2: ОПТ , € с 15.02.24 | G2: РРЦ , € с 15.02.24 | H2: Наценка если заменить на фабрике, ОПТ € с 15.02.24 | I2: Наценка если заменить на фабрике, РРЦ € с 15.02.24 | J2: Склад/подзаказ | K2: Доп.информация
B3: Профиль | D3: 001-706150003 | E3: Chrome+ Профиль стабилизатора верхний 1500 мм | F3: 117 | G3: 180 | H3: 53 | I3: 82 | J3: Подзаказ
B4: Профиль | D4: 001-260200003 | E4: Chrome+ Маскировочный профиль пристенного профиля Fuenta/Essenza | F4: 108 | G4: 167 | H4: 53 | I4: 82 | J4: Подзаказ
B5: Профиль | D5: 001-261200003 | E5: Chrome+ Профиль угловой кабины KDJ+S(Essenza/Fuenta) | F5: 126 | G5: 194 | H5: 53 | I5: 82 | J5: Подзаказ
B6: Профиль | D6: 001-251200003 | E6: Chrome+ Профиль под магнит DWJ (Euphoria / Essenza / Fuenta) | F6: 104 | G6: 160 | H6: 46 | I6: 71 | J6: Под заказ
B7: Профиль | D7: 001-151200003 | E7: Chrome+ П-образный профиль для профиля под магнит DWJ (Euphoria / Essenza / Fuenta) | F7: 89 | G7: 137 | H7: 46 | I7: 71 | J7: Под заказ
B8: Профиль | D8: 001-250200003 | E8: Chrome+ Уплотнительный профиль (между стационарным стеклом и стеной) Euphoria | F8: 87 | G8: 133 | H8: 38 | I8: 59 | J8: Под заказ

Sheet Общий прайс-лист для 1С
A1: Штрих код | B1: Артикул | C1: РРЦ, € с 1.08.26 | D1: Наименование
A2: 5902738061382 | B2: 10001050-01-01 | C2: 244 | D2: Шторка на ванну Idea PNJ 50 500x1500 хром/прозрачное/6mm 10001050-01-01
A3: 5902738065151 | B3: 10001050-01-01W | C3: 332 | D3: Шторка на ванну Idea PNJ 500 с полотенцедержателем 500x1500 хром/прозрачное/6mm 10001050-01-01W
A4: 5902738061443 | B4: 10001050-54-01 | C4: 269 | D4: Шторка на ванну Idea Black PNJ 50 500x1500 Black/прозрачное/6mm 10001050-54-01
A5: 5902738065168 | B5: 10001060-01-01W | C5: 349 | D5: Шторка на ванну Idea PNJ 600 с полотенцедержателем 600x1500 хром/прозрачное/6mm 10001060-01-01W
A6: 5902738061450 | B6: 10001060-54-01 | C6: 286 | D6: Шторка на ванну Idea Black PNJ 60 600x1500 Black/прозрачное/6mm 10001060-54-01
A7: 5902738061511 | B7: 10001060-54-55 | C7: 424 | D7: Шторка на ванну Idea Black PNJ 60 Factory 10001060-54-55
A8: 5902738061573 | B8: 10001060-54-56 | C8: 424 | D8: Шторка на ванну Idea Black PNJ 60 Frame 10001060-54-56
A9: 5902738064949 | B9: 10001070-01-01W | C9: 374 | D9: Шторка на ванну Idea PNJ 700 с полотенцедержателем 700x1500 хром/прозрачное/6mm 10001070-01-01W
A10: 5902738061528 | B10: 10001070-54-55 | C10: 475 | D10: Шторка на ванну Idea Black PNJ 70 Factory 10001070-54-55
A11: 5902738061580 | B11: 10001070-54-56 | C11: 475 | D11: Душевая шторка Idea Black PNJ 70 Frame 700x1500 10001070-54-56
A12: 5902738061412 | B12: 10001080-01-01 | C12: 290 | D12: Шторка на ванну Idea PNJ 80 800x1500 хром/прозрачное/6mm 10001080-01-01
A13: 5904295133212 | B13: 10001080-09-01 | C13: 357 | D13: Шторка на ванну Idea Gold PNJ II 80 золото/прозрач./6mm/800x1500 10001080-09-01
A14: 5902738061535 | B14: 10001080-54-55 | C14: 504 | D14: Шторка на ванну Idea Black PNJ II 80 Factory 10001080-54-55
A15: 5902738061597 | B15: 10001080-54-56 | C15: 504 | D15: Шторка на ванну Idea Black PNJ 80 Frame 10001080-54-56
A16: 5904295333285 | B16: 10001080-91-01 | C16: 357 | D16: Шторка на ванну Idea Brushed Nickel PNJ II 80 /прозрач./6mm/800x1500 10001080-91-01
A17: 5904295333346 | B17: 10001080-92-01 | C17: 357 | D17: Шторка на ванну Idea Brushed GunMetal PNJ II 80 /прозрач./6mm/800x1500 10001080-92-01
... A19: 5904295507358 | B19: 10001080-98-01 | C19: 357 | D19: Шторка на ванну Idea PNJ II 80 brushed light gold/прозрач./6 мм/800x1500 10001080-98-01
A20: 5904295133274 | B20: 10001080-99-01 | C20: 357 | D20: Шторка на ванну Idea Brushed Gold PNJ II 80 /прозрач./6mm/800x1500 10001080-99-01
A21: 5904295133229 | B21: 10001090-09-01 | C21: 412 | D21: Шторка на ванну Idea Gold PNJ II 90 золото/прозрач./6mm/900x1500 10001090-09-01
A22: 5902738061481 | B22: 10001090-54-01 | C22: 374 | D22: Шторка на ванну Idea Black PNJ 90 900x1500 Black/прозрачное/6mm 10001090-54-01
A23: 5902738061542 | B23: 10001090-54-55 | C23: 584 | D23: Шторка на ванну Idea Black PNJ 90 Factory 10001090-54-55
A24: 5902738061603 | B24: 10001090-54-56 | C24: 584 | D24: Шторка на ванну Idea Black PNJ 90 Frame 10001090-54-56
A25: 5904295333292 | B25: 10001090-91-01 | C25: 412 | D25: Шторка на ванну Idea Brushed Nickel PNJ II 90 /прозрач./6mm/900x1500 10001090-91-01
A26: 5904295333353 | B26: 10001090-92-01 | C26: 412 | D26: Шторка на ванну Idea Brushed GunMetal PNJ II 90 /прозрач./6mm/900x1500 10001090-92-01
A27: 5904295333414 | B27: 10001090-93-01 | C27: 412 | D27: Шторка на ванну Idea Brushed Copper PNJ II 90 /прозрач./6mm/900x1500 10001090-93-01
A28: 5904295507365 | B28: 10001090-98-01 | C28: 412 | D28: Шторка на ванну Idea PNJ II 90 brushed light gold/прозрач./6 мм/900x1500 10001090-98-01
A29: 5904295133281 | B29: 10001090-99-01 | C29: 412 | D29: Шторка на ванну Idea Brushed Gold PNJ II 90 /прозрач./6mm/900x1500 10001090-99-01
A30: 5902738065175 | B30: 10001100-01-01W | C30: 441 | D30: Шторка на ванну Idea PNJ 100 с полотенцедержателем 1000x1500 хром/прозрачное/6mm 10001100-01-01W
A31: 5904295133236 | B31: 10001100-09-01 | C31: 424 | D31: Шторка на ванну Idea Gold PNJ II 100 золото/прозрач./6mm/1000x1500 10001100-09-01
A32: 5902738061559 | B32: 10001100-54-55 | C32: 613 | D32: Шторка на ванну Idea Black PNJ 100 Factory 10001100-54-55
A33: 5902738061610 | B33: 10001100-54-56 | C33: 613 | D33: Шторка на ванну Idea Black PNJ 100 Frame 10001100-54-56
A34: 5904295333308 | B34: 10001100-91-01 | C34: 424 | D34: Шторка на ванну Idea Brushed Nickel PNJ II 100 /прозрач./6mm/1000x1500 10001100-91-01
A35: 5904295333360 | B35: 10001100-92-01 | C35: 424 | D35: Шторка на ванну Idea Brushed GunMetal PNJ II 100 /прозрач./6mm/1000x1500 10001100-92-01
A36: 5904295333421 | B36: 10001100-93-01 | C36: 424 | D36: Шторка на ванну Idea Brushed Copper PNJ II 100 /прозрач./6mm/1000x1500 10001100-93-01
A37: 5904295507372 | B37: 10001100-98-01 | C37: 424 | D37: Шторка на ванну Idea PNJ II 100 brushed light gold/прозрач./6 мм/1000x1500 10001100-98-01
A38: 5904295133298 | B38: 10001100-99-01 | C38: 424 | D38: Шторка на ванну Idea Brushed Gold PNJ II 100 /прозрач./6mm/1000x1500 10001100-99-01
A39: 5902738061726 | B39: 10003140-01-01L | C39: 739 | D39: Шторка на ванну Idea PN DWJ 140 Left 1400x1500 хром/прозрач/6mm 10003140-01-01L
A40: 5902738064154 | B40: 10003140-01-01R | C40: 739 | D40: Шторка на ванну Idea PN DWJ 140 Right 1400x1500 хром/прозрач/6mm 10003140-01-01R
A41: 5902738061771 | B41: 10003140-54-01L | C41: 815 | D41: Шторка на ванну Idea Black PN DWJ 140 Left Black/прозрачное/6mm 10003140-54-01L
...

Sheet Изменение цвета стекла
A1: !ВАЖНО! Доплата за Изменение варианта стекла* за часть** продукта: *Если 1 часть состоит из двух индексов, то доплата делится поровну на оба индекса, **Пожалуйста, обратитесь к листу каталога, чтобы определить количество деталей
A2: В таблицах указана цена за изменение цвета стекла - ТОЛЬКО В КАБИНАХ С ПЛОСКИМ СТЕКЛОМ. В полукруглых кабинах изменить цвет стекла нельзя. | F2: Розничная цена, Евро с 1.01.26 | G2: Доп. Информация | H2: Пример: Nes 8 KDJ I с матовым стеклом = +224 евро, независимо от размера. 1 индекс для фронтальной стороны (+112 евро) + 1 индекс для боковой стены (+112 евро) Furo KDJ с матовым стеклом = +224 евро, независимо от размера. 2 индекса для фронтальной стороны (+112 / 2 = +56 евро за индекс) + 1 индекс для боковой стены (+112 евро)
A3: Душевую кабину можно заказать в стандартном размере и нестандартном цвете стекла, тогда расчет цены включает: 1) стоимость стандартного ограждения + 2) наценка за изменение цвета | E3: толщина стекла 6 мм
E4: Коричневое 08 | F4: 94
E5: Графитовое 05 | F5: 94
E6: Матовое (Sateen) + UltraClear | F6: =F7+F8 -> 188 | G6: ПРЕИМУЩЕСТВА НОВИНКИ: ✨ Никакого зеленого оттенка ✨ Цена стала ниже! 🤑 Раньше: Digital Print + UltraClear ТЕХНИЧЕСКИЕ ДЕТАЛИ: 📌 В конфигураторе указывайте: «Матовое UltraClear» 📌 Доступные толщины: 6 мм и 8 мм 📌 Сроки: пока уточняем под каждый заказ индивидуально (скоро придем к единому стандарту)
A7: Срок изготовления 10 календарных дней + доставка из Польши до Москвы Срок на горячее нанесение 14 календарных дней + доставка из Польши до Москвы. | E7: Матовое (сатин) 02 | F7: 94
E8: UltraClear | F8: 94
A9: Стекло PIXARENA и ShowerGuard толщиной 6 и 8 мм на фабрике СНЯТО С ПРОИЗВОДСТВА! | E9: Visiosun | F9: 157 | G9: Вариант стекла Visiosun доступен в коллекциях со стеклом 6 мм: Carena, Eos / Eos II (кроме PND I), Idea, Nes (кроме : KDJ-B KDD-B, DWB, PND I), Torrenta. Стекло Visiosun не доступно в полукруглых моделях. Максимально возможная высота стекла 2700 мм
E10: Master-Soft | F10: 157 | G10: Стекло Master Soft доступно в коллекциях: 6 мм - Idea, Nes 6 (кроме : KDJ-B KDD-B, DWB, PND I), Almatea, Torrenta, Eos 8 мм - Modo , Espera, Nes 8 (кроме : KDJ-B KDD-B, DWB, PND I)
E11: Mirror(зеркало) | F11: 204
E12: Полоса интимато (intimato) (площадь печати от 0-50% поверхности стекла) | F12: 219 | G12: Полоса интимато (intimato) с 15.12.2020 наносится также как и покрытие Frame/Factory методом горячего нанесения (жидкая керамика). Полоса интимато (intimato) может быть любой ширины, но не более 50% площади ограждения, свыше 50% - индивидуальный расчет по запросу.
E13: Frame/Factory (площадь печати от 0-50% поверхности стекла) | F13: 219 | G13: Допустимые размеры нанесения Frame/Factory по ширине до 1600мм, по высоте до 3000 мм. Толщина стекла любая 6, 8 и 10 мм. Уточнять ограничения по высоте по каждой коллекции индивидуально. Допускается комбинация с цветными стеклами, цена включает: 1) стоимость нанесения Frame/Factory + 2) стоимость цветного стекла.
E14: ДЕКОР VISIOPRINT | F14: 219
E16: толщина стекла 8 мм
E17: Коричневое 08 | F17: 172
E18: Графитовое 05 | F18: 172
E19: Матовое (Sateen) + UltraClear | F19: 344 | G19: ПРЕИМУЩЕСТВА НОВИНКИ: ✨ Никакого зеленого оттенка ✨ Цена стала ниже! 🤑 Раньше: Digital Print + UltraClear ТЕХНИЧЕСКИЕ ДЕТАЛИ: 📌 В конфигураторе указывайте: «Матовое UltraClear» 📌 Доступные толщины: 6 мм и 8 мм 📌 Сроки: пока уточняем под каждый заказ индивидуально (скоро придем к единому стандарту)
E20: Матовое (сатин) 02 | F20: 172
E21: UltraClear | F21: 172
E22: Master-Soft | F22: 236 | G22: Стекло Master Soft доступно в коллекциях: 6 мм - Idea, Nes 6 (кроме : KDJ-B KDD-B, DWB, PND I), Almatea, Torrenta, Eos 8 мм - Modo , Espera, Nes 8 (кроме : KDJ-B KDD-B, DWB, PND I)
E23: Visiosun | F23: 236 | G23: Вариант стекла Visiosun доступен в коллекциях со стеклом 8 мм: Modo New/F/SL/F SL/SL SW, Nes 8*, Espera Pro, Espera, IDEA 8/8QL). * кроме моделей: KDJ B, KDD B, DWB, PND I.Стекло Visiosun не доступно в полукруглых моделях. Максимально возможная высота стекла 3000 мм
E24: Mirror (зеркало) | F24: 455
E25: Полоса интимато (intimato) (площадь печати от 0-50% поверхности стекла) | F25: 219 | G25: Полоса интимато (intimato) с 15.12.2020 наносится также как и покрытие Frame/Factory методом горячего нанесения (жидкая керамика). Полоса интимато (intimato) может быть любой ширины, но не более 50% площади ограждения, свыше 50% - индивидуальный расчет по запросу.
E26: Frame/Factory (площадь печати от 0-50% поверхности стекла) | F26: 219 | G26: Допустимые размеры нанесения Frame/Factory по ширине до 1600мм, по высоте до 3000 мм. Толщина стекла любая 6, 8 и 10 мм. Уточнять ограничения по высоте по каждой коллекции индивидуально. Допускается комбинация с цветными стеклами(*** Frame и Factory доступныe на стекле: UltraClear® матовом, графитовом, коричневом, зеркальном), цена включает: 1) стоимость нанесения Frame/Factory + 2) стоимость цветного стекла.
E27: ДЕКОР VISIOPRINT | F27: 219 | G27: ДЕКОР VISIOPRINT Цветная печать доступна только на плоском стекле: прозрачном, коричневом, графитовом и Ultra Clear® толщиной 6, 8, 10мм. Максимальная ширина стекла = 1600мм
E29: толщина стекла 10 мм
E30: Коричневое 08 | F30: 204
E31: Графитовое 05 | F31: 204
E32: Матовое (Sateen) + UltraClear | F32: =F33+F34 -> 408 | G32: ПРЕИМУЩЕСТВА НОВИНКИ: ✨ Никакого зеленого оттенка ✨ Цена стала ниже! 🤑 Раньше: Digital Print + UltraClear ТЕХНИЧЕСКИЕ ДЕТАЛИ: 📌 В конфигураторе указывайте: «Матовое UltraClear» 📌 Доступные толщины: 6 мм и 8 мм и 10 мм 📌 Сроки: пока уточняем под каждый заказ индивидуально (скоро придем к единому стандарту)
E33: Матовое (сатин) 02 | F33: 204
E34: UltraClear | F34: 204
E35: Полоса интимато (intimato) (площадь печати от 0-50% поверхности стекла) | F35: 219 | G35: Полоса интимато (intimato) с 15.12.2020 наносится также как и покрытие Frame/Factory методом горячего нанесения (жидкая керамика). Полоса интимато (intimato) может быть любой ширины, но не более 50% площади ограждения, свыше 50% - индивидуальный расчет по запросу.
E36: Frame/Factory (площадь печати от 0-50% поверхности стекла) | F36: 219 | G36: Допустимые размеры нанесения Frame/Factory по ширине до 1600мм, по высоте до 3000 мм. Толщина стекла любая 6, 8 и 10 мм. Уточнять ограничения по высоте по каждой коллекции индивидуально. Допускается комбинация с цветными стеклами(*** Frame и Factory доступныe на стекле: UltraClear® матовом, графитовом, коричневом, зеркальном), цена включает: 1) стоимость нанесения Frame/Factory + 2) стоимость цветного стекла.
E37: ДЕКОР VISIOPRINT | F37: 219 | G37: ДЕКОР VISIOPRINT Цветная печать доступна только на плоском стекле: прозрачном, коричневом, графитовом и Ultra Clear® толщиной 6, 8, 10мм. Максимальная ширина стекла = 1600мм
E38: На стеклах 6, 8, 10 мм доступна печать любого рисунка методом горячего нанесения (жидкая керамика). Допустимые размеры нанесения по ширине до 1600мм, по высоте до 3000 мм.
E40: Прочие узоры (не менее 1 кв.м) CMYK, площадь печати от 1-100% поверхности стекла. | F40: 376
E41: Прочие узоры (не менее 1 кв.м) в цвете Silver, Gold (зеркальное серебро и золото)

Sheet Спец.предложение
A2: Коллекция | B2: Модель | C2: Штрих код | D2: Код товара | F2: Наименование | G2: Цвет | H2: Размер | I2: Цвет стекла | J2: Толщина стекла | K2: ОПТ, € с 15.02.24 | L2: РРЦ, € с 15.02.24 | M2: Спеццена-ОПТ
A3: Premium | B3: A | C3: 5902738002033 | D3: 30413-01-01set | E3: Premium A 80x80 | F3: Premium A 80x80x190 | G3: chrome | H3: 800x800x1900 | I3: прозрачное | J3: 5mm | K3: 437 | L3: 673 | M3: 279 | N3: доступно до окончания складских остатков. Вышел из ассортимента
C4: 5902738046938 | D4: S4TIA8080-08 | F4: Tinos A Compact 80x80 półokrągły | G4: white | H4: 800x800x160
C5: 8426621142608 | D5: PB50T | F5: PB50T Siphon Ø50
A6: Premium | B6: C | C6: 5902738027180 | D6: 30463-01-01set | E6: Premium C 80x80 | F6: Premium C 80x80x190 | G6: chrome | H6: 900x900x1900 | I6: прозрачное | J6: 5mm | K6: 437 | L6: 673 | M6: 279
C7: 5902738046921 | D7: S4TIC8080-08 | F7: Tinos C Compact 80x80 kwadratowy | G7: white | H7: 800x800x160
C8: 8426621142608 | D8: PB50T | F8: PB50T Siphon Ø50

Sheet Доп возможности
B1: Категория | C1: Характеристики | D1: Штрих код | E1: Код товара | G1: Наименование | H1: Цвет | K1: Склад/ под заказ | L1: Доп. информация
B2: Запчасть для сифона | E2: 023-008002301 | G2: Вставка для сифона R400W Slim | K2: Под заказ
B3: Запчасть для сифона | D3: 5902738023939 | E3: 023-30719155 | G3: Мембрана для сифона R400 Slim | K3: Под заказ
B4: Горизонтальный уплотнитель | C4: Для монтажа кабины в варианте без порога. Essenza Pro: KDJ; KDD; PTJ; DWJ; Essenza : KDJ; KDJ B; KDD; KDD-B; PTJ; KDJ+S; DWJ; DWJS; DWB Fuenta : KDJ; KDJ B; KDD; KDD B; KDJ+S; DWJ; DWJS; DWB Eos: KDJ; KDS; KDJ B; KDD; KDD B; DWJ; DWS; DWB; DWD Eos II: KDJ; KDS; KDD; DWD+S; DWD+2S; DWJ; DWJS; DWD Torrenta: KDJ; KDD; DWJ; DWJS | E4: 007-106700500 | G4: Горизонтальный левый уплотнитель для Eos и Eos II* без порога | K4: снято с производства
B5: Горизонтальный уплотнитель | C5: Для монтажа кабины в варианте без порога. Essenza Pro: KDJ; KDD; PTJ; DWJ; Essenza : PDD; KDJ; KDJ B; KDD; KDD-B; PTJ; KDJ+S; DWJ; DWJS; DWB Fuenta : PDD; KDJ; KDJ B; KDD; KDD B; KDJ+S; DWJ; DWJS; DWB Eos: KDJ; KDS; KDJ B; KDD; KDD B; DWJ; DWS; DWB; DWD Eos II: KDJ; KDS; KDD; DWD+S; DWD+2S; DWJ; DWJS; DWD Torrenta: KDJ; KDD; DWJ; DWJS | E5: 007-106700600 | G5: Горизонтальный правый уплотнитель для Eos и Eos II* без порога | K5: снято с производства
B6: Горизонтальный уплотнитель | C6: Для монтажа кабины в варианте без порога. Eos: PDD Eos II: PDD Torrenta: PDJ | E6: 007-106301100 | G6: Горизонтальный левый уплотнитель для Eos PDD без порога | K6: снято с производства
B7: Горизонтальный уплотнитель | C7: Для монтажа кабины в варианте без порога. Eos: PDD Eos II: PDD Torrenta: PDJ | E7: 007-106301200 | G7: Горизонтальный правый уплотнитель для Eos PDD без порога | K7: снято с производства
B8: Горизонтальный уплотнитель | C8: Для монтажа кабины в варианте без порога. Essenza Pro: PDD Torrenta: PDD | E8: 007-106700100 | G8: Горизонтальный левый уплотнитель для Eos II PDD без порога | K8: снято с производства
B9: Горизонтальный уплотнитель | C9: Для монтажа кабины в варианте без порога. Essenza Pro: PDD Torrenta: PDD | E9: 007-106700200 | G9: Горизонтальный правый уплотнитель для Eos II PDD без порога | K9: снято с производства
B10: Горизонтальный уплотнитель | C10: Для монтажа кабины в варианте без порога. Euphoria: KDJ; KDJ+S; KDJ P; KDD; DWJ | E10: 007-108200100 | G10: Горизонтальный левый уплотнитель для Euphoria* без порога | K10: снято с производства
B11: Горизонтальный уплотнитель | C11: Для монтажа кабины в варианте без порога. Euphoria KDJ; Euphoria KDJ+S; Euphoria KDJ P; Euphoria KDD; Euphoria DWJ | E11: 007-108200200 | G11: Горизонтальный правый уплотнитель для Euphoria* без порога | K11: снято с производства
B12: Горизонтальный уплотнитель | C12: Для монтажа кабины в варианте без порога. Euphoria PDD | E12: 007-108200300 | G12: Горизонтальный левый уплотнитель для Euphoria PDD без порога | K12: снято с производства
B13: Горизонтальный уплотнитель | C13: Для монтажа кабины в варианте без порога. Euphoria PDD | E13: 007-108200400 | G13: Горизонтальный правый уплотнитель для Euphoria PDD без порога | K13: снято с производства
B14: Стабилизатор крестообразный | C14: В СОСТАВ КОМПЛЕКТА ВХОДЯТ: – держатель на стекло - 2шт., – держатель на стену - 1шт., – промежуточный кронштейн - 1 шт., – палка стабилизатора длиной 1500мм (для самостоятельной подрезки) - 1 шт. | D14: 5902738023922 | E14: 6KWK1 | G14: Т-образный стабилизатор на стекло 6 мм (только для KDJ) | H14: хром | K14: Под заказ
B15: Стабилизатор крестообразный | D15: 5902738067124 | E15: 6KWK1B | G15: Т-образный стабилизатор на стекло 6 мм черный | H15: черный | K15: Под заказ
B16: Стабилизатор крестообразный | D16: 5902738056746 | E16: 8KWK1 | G16: Т-образный стабилизатор на стекло 8 мм (только для KDJ) | H16: хром | K16: Под заказ
B17: Стабилизатор крестообразный | D17: 5902738067117 | E17: 8KWK1B | G17: Т-образный стабилизатор на стекло 8 мм черный | H17: черный | K17: Под заказ
B18: Держатель для полотенец | E18: WRW01-L | G18: Держатель для полотенец Left Chrome | H18: хром | K18: снято с производства
B19: Держатель для полотенец | E19: WRW03-L | G19: Держатель для полотенец Left Chrome+ | K19: снято с производства
B20: Держатель для полотенец | E20: WRW54-L | G20: Держатель для полотенец Left Black | H20: черный | K20: снято с производства
B21: Держатель для полотенец | E21: WRW01-R | G21: Держатель для полотенец Right Chrome | H21: хром | K21: снято с производства
B22: Держатель для полотенец | E22: WRW03-R | G22: Держатель для полотенец Right Chrome+ | K22: снято с производства
B23: Держатель для полотенец | E23: WRW54-R | G23: Держатель для полотенец Right Black | H23: черный | K23: снято с производства
B24: Держатель для полотенец | E24: WRG99 | G24: Держатель для полотенец Brushed Gold | H24: brushed gold | K24: снято с производства
B25: Держатель для полотенец | E25: WRG93 | G25: Держатель для полотенец Brushed Cooper | H25: Brushed Cooper | K25: снято с производства
B26: Держатель для полотенец | E26: WRG92 | G26: Держатель для полотенец Brushed GunMetal | H26: brushed GunMetal | K26: снято с производства
B27: Держатель для полотенец | E27: WRG91 | G27: Держатель для полотенец Brushed Nickel | H27: brushed nickel | K27: снято с производства
B28: Держатель для полотенец | E28: WRG01 | G28: Держатель для полотенец | H28: хром | K28: снято с производства
B29: Держатель для полотенец | E29: WRG03 | G29: Держатель для полотенец Chrome+ | H29: хром+ | K29: снято с производства
B30: Держатель для полотенец | E30: WRG54 | G30: Держатель для полотенец Black | H30: черный | K30: снято с производства
B31: Держатель для полотенец | E31: WRG09 | G31: Полотенцедержатель стекло-стекло - Gold | H31: золото | K31: снято с производства
B32: Ручка-Дополнительная ручка – вид изнутри душевого ограждения. TPE элемент графитового или черного цвета. | C32: Ручка подходит для дверей изготовленных из стекла как 6 мм, так и 8 мм. В комплект входят элементы TPE черного и графитового цвета. Ручка монтируется в процессе производства, поэтому её следует заказать одновременно с дверью. | E32: BF-001 | G32: Дополнительная ручка BIFOLD 2 SR Chrome | H32: хром | K32: Под заказ
B33: Ручка-Дополнительная ручка черного цвета – вид изнутри душевого ограждения. TPE элемент черного цвета. | C33: Ручка подходит для дверей изготовленных из стекла как 6 мм, так и 8 мм. В комплект входят элементы TPE черного и графитового цвета. Ручка монтируется в процессе производства, поэтому её следует заказать одновременно с дверью. | E33: BF-054 | G33: Дополнительная ручка BIFOLD 2 SR Black | H33: черный | K33: Под заказ
B34: Ручка-Дополнительная ручка – вид изнутри душевого ограждения. TPE элемент черного цвета. | C34: Ручка подходит для дверей изготовленных из стекла как 6 мм, так и 8 мм. В комплект входят элементы TPE черного и графитового цвета. Ручка монтируется в процессе производства, поэтому её следует заказать одновременно с дверью. | E34: BF-009 | G34: Дополнительная ручка BIFOLD 2 SR Gold | H34: золото | K34: Под заказ
B35: Ручка-Дополнительная ручка – вид изнутри душевого ограждения. TPE элемент черного цвета. | C35: Ручка подходит для дверей изготовленных из стекла как 6 мм, так и 8 мм. В комплект входят элементы TPE черного и графитового цвета. Ручка монтируется в процессе производства, поэтому её следует заказать одновременно с дверью. | E35: BF-092 | G35: Дополнительная ручка BIFOLD 2 SR brushed GunMetal | H35: brushed GunMetal | K35: Под заказ
B36: Ручка-Дополнительная ручка – вид изнутри душевого ограждения. TPE элемент черного цвета. | C36: Ручка подходит для дверей изготовленных из стекла как 6 мм, так и 8 мм. В комплект входят элементы TPE черного и графитового цвета. Ручка монтируется в процессе производства, поэтому её следует заказать одновременно с дверью. | E36: BF-091 | G36: Дополнительная ручка BIFOLD 2 SR brushed nickel | H36: brushed nickel | K36: Под заказ
B37: Ручка-Дополнительная ручка – вид изнутри душевого ограждения. TPE элемент черного цвета. | C37: Ручка подходит для дверей изготовленных из стекла как 6 мм, так и 8 мм. В комплект входят элементы TPE черного и графитового цвета. Ручка монтируется в процессе производства, поэтому её следует заказать одновременно с дверью. | E37: BF-093 | G37: Дополнительная ручка BIFOLD 2 SR Brushed Cooper | H37: Brushed Cooper | K37: Под заказ
B38: Ручка-Дополнительная ручка – вид изнутри душевого ограждения. TPE элемент черного цвета. | C38: Ручка подходит для дверей изготовленных из стекла как 6 мм, так и 8 мм. В комплект входят элементы TPE черного и графитового цвета. Ручка монтируется в процессе производства, поэтому её следует заказать одновременно с дверью. | E38: BF-099 | G38: Дополнительная ручка BIFOLD 2 SR Brushed Gold | H38: brushed gold | K38: Под заказ
B39: Ручка-В некоторых моделях серии Eos можно заменить стандартные ручки на ручки с элемен- тами TPE черного, графитового цветов или на полностью хромированные | C39: № арт. 004-400001400 Металлическая, хромированная ручка с TPE (термопластичные эластомеры) элементами графитового цвета | E39: 004-400001400 | G39: Дверная ручка с графитом TPE | K39: Под заказ
B40: Ручка-В некоторых моделях серии Eos можно заменить стандартные ручки на ручки с элемен- тами TPE черного, графитового цветов или на полностью хромированные | C40: № арт. 004-400001401 Металлическая, хромированная ручка с TPE (термопластичные эластомеры) элементами черного цвета | E40: 004-400001401 | G40: Дверная ручка с черным TPE | K40: Под заказ
...

Sheet Ren-спецзаказ
B1: Высота | E1: Толщина стекла, мм | F1: Кол-во петель | G1: Размер Х, мм | H1: Размер В, мм | I1: Размер С, мм | J1: РРЦ, евро с 1.01.26 хром | K1: РРЦ, евро с 1.01.26 черный | L1: РРЦ, евро с 1.01.26 браш золото
A2: Фурнитура: хром, черный, золото, брашированные золото, медь, оружейная сталь, никель. Размер двери максимум 900мм.Ручка - новая моноблочная вешалка для полотенец 42см | B2: Ren DWS H 2300-3000 | C2: H <= 2300 | D2: 2300 | E2: 8 | F2: 2 | G2: 1000 | H2: 500 | I2: 500 | J2: 1518 | K2: 1670 | L2: 1745
D3: 2300 | E3: 8 | F3: 2 | G3: 1500 | H3: 700 | I3: 800 | J3: 1752 | K3: 1928 | L3: 2016
C4: 2300 < H <= 2500 | D4: 2500 | E4: 8 | F4: 3 | G4: 1000 | H4: 500 | I4: 500 | J4: 1974 | K4: 2172 | L4: 2270
D5: 2500 | E5: 8 | F5: 3 | G5: 1500 | H5: 700 | I5: 800 | J5: 2229 | K5: 2452 | L5: 2563
C6: 2500 < H <=3000 | D6: 3000 | E6: 10 | F6: 3 | G6: 1000 | H6: 500 | I6: 500 | J6: 2061 | K6: 2267 | L6: 2370
D7: 3000 | E7: 10 | F7: 3 | G7: 1500 | H7: 700 | I7: 800 | J7: 2442 | K7: 2686 | L7: 2808
B8: Ren DWJS H 2300-3000 | C8: H <= 2300 | D8: 2300 | E8: 8 | F8: 2 | G8: 1400 | H8: 600 | I8: 400 | J8: 2037 | K8: 2241 | L8: 2343
D9: 2300 | E9: 8 | F9: 2 | G9: 2000 | H9: 800 | I9: 600 | J9: 2322 | K9: 2554 | L9: 2669
C10: 2300 < H <= 2500 | D10: 2500 | E10: 8 | F10: 3 | G10: 1400 | H10: 600 | I10: 400 | J10: 2609 | K10: 2870 | L10: 3001
D11: 2500 | E11: 8 | F11: 3 | G11: 2000 | H11: 800 | I11: 600 | J11: 2911 | K11: 3202 | L11: 3348
C12: 2500 < H <=3000 | D12: 3000 | E12: 10 | F12: 3 | G12: 1400 | H12: 600 | I12: 400 | J12: 2852 | K12: 3138 | L12: 3279
D13: 3000 | E13: 10 | F13: 3 | G13: 2000 | H13: 800 | I13: 600 | J13: 3316 | K13: 3648 | L13: 3814
B14: Ren DWJS+S H 2300-3000 Перед кабины | C14: H <= 2300 | D14: 2300 | E14: 8 | F14: 2 | G14: 1400 | H14: 600 | I14: 400 | J14: 2141 | K14: 2355 | L14: 2462
D15: 2300 | E15: 8 | F15: 2 | G15: 2000 | H15: 800 | I15: 600 | J15: 2421 | K15: 2663 | L15: 2785
C16: 2300 < H <= 2500 | D16: 2500 | E16: 8 | F16: 3 | G16: 1400 | H16: 600 | I16: 400 | J16: 2873 | K16: 3161 | L16: 3305
D17: 2500 | E17: 8 | F17: 3 | G17: 2000 | H17: 800 | I17: 600 | J17: 3182 | K17: 3501 | L17: 3660
C18: 2500 < H <=3000 | D18: 3000 | E18: 10 | F18: 3 | G18: 1400 | H18: 600 | I18: 400 | J18: 3087 | K18: 3396 | L18: 3550
D19: 3000 | E19: 10 | F19: 3 | G19: 2000 | H19: 800 | I19: 600 | J19: 3547 | K19: 3902 | L19: 4079
B20: Ren DWJS+S H 2300-3000 Боковая стенка | C20: H <= 2300 | D20: 2300 | E20: 8 | G20: 1000 | J20: 681 | K20: 750 | L20: 783
D21: 2300 | E21: 8 | G21: 1500 | J21: 1012 | K21: 1113 | L21: 1164
C22: 2300 < H <= 2500 | D22: 2500 | E22: 8 | G22: 1000 | J22: 723 | K22: 796 | L22: 831
D23: 2500 | E23: 8 | G23: 1500 | J23: 1075 | K23: 1182 | L23: 1236
C24: 2500 < H <=3000 | D24: 3000 | E24: 10 | G24: 1000 | J24: 983 | K24: 1081 | L24: 1131
D25: 3000 | E25: 10 | G25: 1500 | J25: 1464 | K25: 1611 | L25: 1683
B26: Ren DWJ I H 2300-3000 | C26: H <= 2300 | D26: 2300 | E26: 8 | F26: 2 | G26: 900 | J26: 1079 | K26: 1187 | L26: 1241
C27: 2300 < H <= 2500 | D27: 2500 | E27: 8 | F27: 3 | G27: 900 | J27: 1430 | K27: 1573 | L27: 1644
C28: 2500 < H <=3000 | D28: 3000 | E28: 10 | F28: 3 | G28: 900 | J28: 1551 | K28: 1706 | L28: 1784
B29: Ren DWJ II H 2300-3000 | C29: H <= 2300 | D29: 2300 | E29: 8 | F29: 2 | G29: 1000 | H29: 600 | I29: 400 | J29: 1593 | K29: 1752 | L29: 1832
D30: 2300 | E30: 8 | F30: 2 | G30: 1400 | H30: 800 | I30: 600 | J30: 1778 | K30: 1955 | L30: 2044
C31: 2300 < H <= 2500 | D31: 2500 | E31: 8 | F31: 3 | G31: 1000 | H31: 600 | I31: 400 | J31: 2033 | K31: 2236 | L31: 2338
D32: 2500 | E32: 8 | F32: 3 | G32: 1400 | H32: 800 | I32: 600 | J32: 2242 | K32: 2466 | L32: 2579
C33: 2500 < H <=3000 | D33: 3000 | E33: 10 | F33: 3 | G33: 1000 | H33: 600 | I33: 400 | J33: 2246 | K33: 2470 | L33: 2583
D34: 3000 | E34: 10 | F34: 3 | G34: 1400 | H34: 800 | I34: 600 | J34: 2551 | K34: 2806 | L34: 2934
A35: Фурнитура: хром, черный, золото, брашированные золото, медь, оружейная сталь, никель. Размер двери максимум 800мм. Ручка - новая моноблочная вешалка для полотенец 42см. Стабилизатор в случае KDJ II-Крестообразный | B35: Ren KDJ I - front | C35: H <= 2300 | D35: 2300 | E35: 8 | F35: 2 | G35: 900 | J35: 1276 | K35: 1404 | L35: 1468
C36: 2300 < H <= 2500 | D36: 2500 | E36: 10 | F36: 3 | G36: 900 | J36: 1656 | K36: 1822 | L36: 1905
C37: 2500 < H <=3000 | D37: 3000 | E37: 10 | F37: 3 | G37: 900 | J37: 1778 | K37: 1955 | L37: 2044
B38: Ren KDJ II - front | C38: H <= 2300 | D38: 2300 | E38: 8 | F38: 2 | G38: 1000 | H38: 600 | I38: 400 | J38: 1744 | K38: 1919 | L38: 2006
D39: 2300 | E39: 8 | F39: 2 | G39: 1400 | H39: 800 | I39: 600 | J39: 1932 | K39: 2125 | L39: 2222
C40: 2300 < H <= 2500 | D40: 2500 | E40: 10 | F40: 3 | G40: 1000 | H40: 600 | I40: 400 | J40: 2275 | K40: 2502 | L40: 2616
...

Sheet Almatea
B1: Коллекция | C1: Модель | D1: Штрих код | E1: Код товара | G1: Наименование | H1: Цвет | I1: Размер, мм | J1: Цвет стекла | K1: Толщина стекла, мм | L1: РРЦ, € с 1.08.26 | M1: Склад/ под заказ | N1: Доп. информация
G2: Асимметричные кабины
B3: Almatea | C3: PDJ | D3: 5902738002378 | E3: 30702-01-05N | G3: Almatea PDJ 90/R | H3: хром | I3: 900x900x1950 | J3: графит | K3: 6 мм | L3: 851 | M3: снято с производства | N3: в наличии на складе | O3: =VLOOKUP($E3,остатки!$C:$F,5,0) -> #N/A
B4: Almatea | C4: KDJ * размер двери ** если размер боковой стенки ≥ 1000 мм, кабина получит крестообразный стабилизатор | D4: 5902738003382 | E4: 32112-01-01NR | G4: Almatea KDJ 80/R | H4: хром | I4: 800x800x1950 | J4: прозрачное | K4: 6 мм | L4: 645 | M4: снято с производства | N4: в наличии на складе Спеццена 28 000 руб | O4: =VLOOKUP($E4,остатки!$C:$F,5,0) -> #N/A
D5: 5902738003412 | E5: 32142-01-01NL | G5: Almatea KDJ 100L*80 | H5: хром | I5: 1000x800x1950 | J5: прозрачное | K5: 6 мм | L5: 664 | M5: снято с производства | N5: в наличии на складе Спеццена 33 000 руб | O5: =VLOOKUP($E5,остатки!$C:$F,5,0) -> #N/A
D6: 5902738011684 | E6: 32143-01-01NR | G6: Almatea KDJ 100R*90 | H6: хром | I6: 1000x900x1950 | J6: прозрачное | K6: 6 мм | L6: 1031 | M6: снято с производства | N6: в наличии на складе Спеццена 29 000 руб | O6: =VLOOKUP($E6,остатки!$C:$F,5,0) -> #N/A
D7: 5902738011660 | E7: 32141-01-05NR | G7: Almatea KDJ 120R*80 | H7: хром | I7: 1200x800x1950 | J7: графит | K7: 6 мм | L7: 759 | M7: снято с производства | N7: в наличии на складе Спеццена 36 000 руб | O7: =VLOOKUP($E7,остатки!$C:$F,5,0) -> #N/A
B8: Almatea | C8: KDJ+S * размер двери | D8: 5902738011509 | E8: 31554-01-01L2 | G8: Almatea KDJ+S/2L 90*100L*90 | H8: хром | I8: 900x1000x900x1950 | J8: прозрачное | K8: 6 мм | L8: 541 | M8: снято с производства | N8: в наличии на складе | O8: =VLOOKUP($E8,остатки!$C:$F,5,0) -> #N/A
B9: Almatea | C9: DWJ | D9: 5902738002491 | E9: 30902-01-01N | G9: Almatea DWJ 80/R | H9: хром | I9: 800x1950 | J9: прозрачное | K9: 6 мм | L9: 754 | M9: снято с производства | N9: в наличии на складе Спеццена 21 000 руб | O9: =VLOOKUP($E9,остатки!$C:$F,5,0) -> #N/A
B10: Almatea SE | C10: KDJ-**Если размер боковой стенки ≥ 1000 мм, кабина получит крестообразный стабилизатор | G10: Квадратные / Прямоугольные Душевые кабины
D11: 5904295084712 | E11: 132112-01-01L | G11: Almatea SE Chrome KDJ 80 Door Left x 80 | H11: хром | I11: 800x800x1950 | J11: прозрачное | K11: 6 мм | L11: 802 | M11: Под заказ
D12: 5904295084729 | E12: 132112-01-01R | G12: Almatea SE Chrome KDJ 80 Door Right x 80 | H12: хром | I12: 800x800x1950 | J12: прозрачное | K12: 6 мм | L12: 802 | M12: Под заказ
D13: 5904295084736 | E13: 132102-01-01L | G13: Almatea SE Chrome KDJ 90 Door Left x 90 | H13: хром | I13: 900x900x1950 | J13: прозрачное | K13: 6 мм | L13: 844 | M13: Под заказ
D14: 5904295084743 | E14: 132102-01-01R | G14: Almatea SE Chrome KDJ 90 Door Right x 90 | H14: хром | I14: 900x900x1950 | J14: прозрачное | K14: 6 мм | L14: 844 | M14: Под заказ
D15: 5904295084750 | E15: 132142-01-01L | G15: Almatea SE Chrome KDJ 100 Door Left x 80 | H15: хром | I15: 1000x800x1950 | J15: прозрачное | K15: 6 мм | L15: 857 | M15: Под заказ
D16: 5904295084767 | E16: 132142-01-01R | G16: Almatea SE Chrome KDJ 100 Door Right x 80 | H16: хром | I16: 1000x800x1950 | J16: прозрачное | K16: 6 мм | L16: 857 | M16: Под заказ
D17: 5904295084774 | E17: 132143-01-01L | G17: Almatea SE Chrome KDJ 100 Door Left x 90 | H17: хром | I17: 1000x900x1950 | J17: прозрачное | K17: 6 мм | L17: 878 | M17: Под заказ
D18: 5904295084781 | E18: 132143-01-01R | G18: Almatea SE Chrome KDJ 100 Door Right x 90 | H18: хром | I18: 1000x900x1950 | J18: прозрачное | K18: 6 мм | L18: 878 | M18: Под заказ
D19: 5904295084798 | E19: 132112-09-01L | G19: Almatea SE Gold KDJ 80 Door Left x 80 | H19: золото | I19: 800x800x1950 | J19: прозрачное | K19: 6 мм | L19: 991 | M19: Под заказ
D20: 5904295084804 | E20: 132112-09-01R | G20: Almatea SE Gold KDJ 80 Door Right x 80 | H20: золото | I20: 800x800x1950 | J20: прозрачное | K20: 6 мм | L20: 991 | M20: Под заказ
D21: 5904295084811 | E21: 132102-09-01L | G21: Almatea SE Gold KDJ 90 Door Left x 90 | H21: золото | I21: 900x900x1950 | J21: прозрачное | K21: 6 мм | L21: 1042 | M21: Под заказ
D22: 5904295084828 | E22: 132102-09-01R | G22: Almatea SE Gold KDJ 90 Door Right x 90 | H22: золото | I22: 900x900x1950 | J22: прозрачное | K22: 6 мм | L22: 1042 | M22: Под заказ
... D26: 5904295084866 | E26: 132143-09-01R | G26: Almatea SE Gold KDJ 100 Door Right x 90 | H26: золото | I26: 1000x900x1950 | J26: прозрачное | K26: 6 мм | L26: 1079 | M26: Под заказ

Sheet Modo F&F SL
B1: Коллекция | C1: Модель | D1: Штрих код | E1: Код товара | G1: Наименование | H1: Цвет | I1: Размер | J1: Цвет стекла | K1: Толщина стекла | L1: РРЦ, € с 1.08.26 | M1: Склад/ под заказ | N1: Доп. информация
B2: Modo F | C2: walk-in | G2: Душевая перегородка с декоративной рамкой
D3: 5904295981820 | E3: 10409054-01-01 | G3: Modo F II 50 | H3: 500х2000 | I3: хром | J3: прозрачное | K3: 8 мм | L3: 529 | M3: Под заказ
D4: 5904295981899 | E4: 10409055-01-01 | G4: Modo F II 55 | H4: 550х2000 | I4: хром | J4: прозрачное | K4: 8 мм | L4: 554 | M4: Под заказ
D5: 5904295981967 | E5: 10409064-01-01 | G5: Modo F II 60 | H5: 600х2000 | I5: хром | J5: прозрачное | K5: 8 мм | L5: 554 | M5: Под заказ
D6: 5904295982032 | E6: 10409065-01-01 | G6: Modo F II 65 | H6: 650х2000 | I6: хром | J6: прозрачное | K6: 8 мм | L6: 567 | M6: Под заказ
D7: 5904295982100 | E7: 10409074-01-01 | G7: Modo F II 70 | H7: 700х2000 | I7: хром | J7: прозрачное | K7: 8 мм | L7: 567 | M7: Под заказ
D8: 5904295982179 | E8: 10409075-01-01 | G8: Modo F II 75 | H8: 750х2000 | I8: хром | J8: прозрачное | K8: 8 мм | L8: 609 | M8: Под заказ
D9: 5904295982247 | E9: 10409084-01-01 | G9: Modo F II 80 | H9: 800х2000 | I9: хром | J9: прозрачное | K9: 8 мм | L9: 609 | M9: Под заказ
D10: 5904295982315 | E10: 10409085-01-01 | G10: Modo F II 85 | H10: 850х2000 | I10: хром | J10: прозрачное | K10: 8 мм | L10: 630 | M10: Под заказ
D11: 5904295982384 | E11: 10409094-01-01 | G11: Modo F II 90 | H11: 900х2000 | I11: хром | J11: прозрачное | K11: 8 мм | L11: 630 | M11: Под заказ
D12: 5904295982452 | E12: 10409095-01-01 | G12: Modo F II 95 | H12: 950х2000 | I12: хром | J12: прозрачное | K12: 8 мм | L12: 693 | M12: Под заказ
D13: 5904295982520 | E13: 10409104-01-01 | G13: Modo F II 100 | H13: 1000х2000 | I13: хром | J13: прозрачное | K13: 8 мм | L13: 693 | M13: Под заказ | N13: есть в наличии
D14: 5904295982599 | E14: 10409105-01-01 | G14: Modo F II 105 | H14: 1050х2000 | I14: хром | J14: прозрачное | K14: 8 мм | L14: 718 | M14: Под заказ
D15: 5904295982667 | E15: 10409114-01-01 | G15: Modo F II 110 | H15: 1100х2000 | I15: хром | J15: прозрачное | K15: 8 мм | L15: 718 | M15: Под заказ
D16: 5904295982735 | E16: 10409115-01-01 | G16: Modo F II 115 | H16: 1150х2000 | I16: хром | J16: прозрачное | K16: 8 мм | L16: 739 | M16: Под заказ
D17: 5904295982803 | E17: 10409124-01-01 | G17: Modo F II 120 | H17: 1200х2000 | I17: хром | J17: прозрачное | K17: 8 мм | L17: 739 | M17: Под заказ
D18: 5904295982872 | E18: 10409125-01-01 | G18: Modo F II 125 | H18: 1250х2000 | I18: хром | J18: прозрачное | K18: 8 мм | L18: 773 | M18: Под заказ
D19: 5904295982940 | E19: 10409134-01-01 | G19: Modo F II 130 | H19: 1300х2000 | I19: хром | J19: прозрачное | K19: 8 мм | L19: 773 | M19: Под заказ
D20: 5904295983015 | E20: 10409135-01-01 | G20: Modo F II 135 | H20: 1350х2000 | I20: хром | J20: прозрачное | K20: 8 мм | L20: 815 | M20: Под заказ
D21: 5904295983084 | E21: 10409144-01-01 | G21: Modo F II 140 | H21: 1400х2000 | I21: хром | J21: прозрачное | K21: 8 мм | L21: 815 | M21: Под заказ
D22: 5904295983152 | E22: 10409145-01-01 | G22: Modo F II 145 | H22: 1450х2000 | I22: хром | J22: прозрачное | K22: 8 мм | L22: 832 | M22: Под заказ
D23: 5904295983220 | E23: 10409154-01-01 | G23: Modo F II 150 | H23: 1500х2000 | I23: хром | J23: прозрачное | K23: 8 мм | L23: 832 | M23: Под заказ
D24: 5904295983299 | E24: 10409155-01-01 | G24: Modo F II 155 | H24: 1550х2000 | I24: хром | J24: прозрачное | K24: 8 мм | L24: 882 | M24: Под заказ
D25: 5904295983367 | E25: 10409164-01-01 | G25: Modo F II 160 | H25: 1600х2000 | I25: хром | J25: прозрачное | K25: 8 мм | L25: 882 | M25: Под заказ
B26: Modo F II Black | C26: walk-in | D26: 5904295981844 | E26: 10409054-54-01 | G26: Modo F Black II 50 | H26: 500х2000 | I26: чёрный | J26: прозрачное | K26: 8 мм | L26: 563 | M26: Под заказ
D27: 5904295981912 | E27: 10409055-54-01 | G27: Modo F Black II 55 | H27: 550х2000 | I27: чёрный | J27: прозрачное | K27: 8 мм | L27: 588 | M27: Под заказ
D28: 5904295981981 | E28: 10409064-54-01 | G28: Modo F Black II 60 | H28: 600х2000 | I28: чёрный | J28: прозрачное | K28: 8 мм | L28: 588 | M28: Под заказ
D29: 5904295982056 | E29: 10409065-54-01 | G29: Modo F Black II 65 | H29: 650х2000 | I29: чёрный | J29: прозрачное | K29: 8 мм | L29: 605 | M29: Под заказ
D30: 5904295982124 | E30: 10409074-54-01 | G30: Modo F Black II 70 | H30: 700х2000 | I30: чёрный | J30: прозрачное | K30: 8 мм | L30: 605 | M30: Под заказ
D31: 5904295982193 | E31: 10409075-54-01 | G31: Modo F Black II 75 | H31: 750х2000 | I31: чёрный | J31: прозрачное | K31: 8 мм | L31: 655 | M31: Под заказ
D32: 5904295982261 | E32: 10409084-54-01 | G32: Modo F Black II 80 | H32: 800х2000 | I32: чёрный | J32: прозрачное | K32: 8 мм | L32: 655 | M32: Под заказ
D33: 5904295982339 | E33: 10409085-54-01 | G33: Modo F Black II 85 | H33: 850х2000 | I33: чёрный | J33: прозрачное | K33: 8 мм | L33: 676 | M33: Под заказ
D34: 5904295982407 | E34: 10409094-54-01 | G34: Modo F Black II 90 | H34: 900х2000 | I34: чёрный | J34: прозрачное | K34: 8 мм | L34: 676 | M34: Под заказ
D35: 5904295982476 | E35: 10409095-54-01 | G35: Modo F Black II 95 | H35: 950х2000 | I35: чёрный | J35: прозрачное | K35: 8 мм | L35: 743 | M35: Под заказ
D36: 5904295982544 | E36: 10409104-54-01 | G36: Modo F Black II 100 | H36: 1000х2000 | I36: чёрный | J36: прозрачное | K36: 8 мм | L36: 743 | M36: Под заказ
D37: 5904295982612 | E37: 10409105-54-01 | G37: Modo F Black II 105 | H37: 1050х2000 | I37: чёрный | J37: прозрачное | K37: 8 мм | L37: 773 | M37: Под заказ
D38: 5904295982681 | E38: 10409114-54-01 | G38: Modo F Black II 110 | H38: 1100х2000 | I38: чёрный | J38: прозрачное | K38: 8 мм | L38: 773 | M38: Под заказ | N38: есть в наличии
D39: 5904295982759 | E39: 10409115-54-01 | G39: Modo F Black II 115 | H39: 1150х2000 | I39: чёрный | J39: прозрачное | K39: 8 мм | L39: 794 | M39: Под заказ
D40: 5904295982827 | E40: 10409124-54-01 | G40: Modo F Black II 120 | H40: 1200х2000 | I40: чёрный | J40: прозрачное | K40: 8 мм | L40: 794 | M40: Под заказ | N40: есть в наличии
...

Sheet Volta
B1: Коллекция | C1: Модель | D1: Штрих код | E1: Код товара | G1: Наименование | H1: Цвет | I1: Размер | J1: Цвет стекла | K1: Толщина стекла | L1: РРЦ, € с 1.08.26 | M1: Склад/ под заказ | N1: Доп. информация
B2: Volta | C2: Walk-in | D2: 5904295005908 | E2: 10201016-01-01 | G2: Душевое ограждение Volta II 100-160x200-270 хром/прозрачное/8 мм 10201016-01-01L | H2: хром | I2: 100-160x200-270 | J2: прозрачное | K2: 8 мм | L2: 941 | M2: Под заказ | N2: стекло универсальное, поэтому теперь акртикул без буквы L/R
D3: 5904295006073 | E3: 10201016-54-56L | G3: Душевое ограждение Volta II Black Frame 100-160x200-270 черн/8мм 10201016-54-56L | H3: черный | I3: 100-160x200-270 | J3: Frame | K3: 8 мм | L3: 1541 | M3: Под заказ
D4: 5904295006080 | E4: 10201016-54-56R | G4: Душевое ограждение Volta II Black Frame 100-160x200-270 черн/8мм 10201016-54-56R | H4: черный | I4: 100-160x200-270 | J4: Frame | K4: 8 мм | L4: 1541 | M4: Под заказ

Sheet Modo
B1: Коллекция | C1: Модель | D1: Штрих код | E1: Код товара | G1: Наименование | H1: Цвет | I1: Размер | J1: Цвет стекла | K1: Толщина стекла | L1: РРЦ, € с 1.08.26 | M1: Склад/ под заказ | N1: Доп. информация
G2: Душевые перегородки
B3: Modo X I | C3: Walk-in | D3: 5902738067506 | E3: 388324-01-01 | G3: Modo X I 120 | H3: хром | I3: 1200x2000 | J3: прозрачное | K3: 10 мм | L3: 693 | M3: Под заказ
D4: 5902738067520 | E4: 388334-01-01 | G4: Modo X I 130 | H4: хром | I4: 1300x2000 | J4: прозрачное | K4: 10 мм | L4: 722 | M4: Под заказ
D5: 5902738067544 | E5: 388344-01-01 | G5: Modo X I 140 | H5: хром | I5: 1400x2000 | J5: прозрачное | K5: 10 мм | L5: 743 | M5: Под заказ
D6: 5902738067568 | E6: 388354-01-01 | G6: Modo X I 150 | H6: хром | I6: 1500x2000 | J6: прозрачное | K6: 10 мм | L6: 773 | M6: Под заказ
D7: 5902738067582 | E7: 388364-01-01 | G7: Modo X I 160 | H7: хром | I7: 1600x2000 | J7: прозрачное | K7: 10 мм | L7: 798 | M7: Под заказ
D8: 5902738067612 | E8: 388324-54-01 | G8: Modo X I Black 120 | H8: чёрный | I8: 1200x2000 | J8: прозрачное | K8: 10 мм | L8: 764 | M8: Под заказ
D9: 5902738067650 | E9: 388334-54-01 | G9: Modo X I Black 130 | H9: чёрный | I9: 1300x2000 | J9: прозрачное | K9: 10 мм | L9: 798 | M9: Под заказ
D10: 5902738067674 | E10: 388344-54-01 | G10: Modo X I Black 140 | H10: чёрный | I10: 1400x2000 | J10: прозрачное | K10: 10 мм | L10: 823 | M10: Под заказ
D11: 5902738067698 | E11: 388354-54-01 | G11: Modo X I Black 150 | H11: чёрный | I11: 1500x2000 | J11: прозрачное | K11: 10 мм | L11: 857 | M11: Под заказ
D12: 5902738067711 | E12: 388364-54-01 | G12: Modo X I Black 160 | H12: чёрный | I12: 1600x2000 | J12: прозрачное | K12: 10 мм | L12: 890 | M12: Под заказ
B13: Modo X Black I Frame | C13: Walk-in | D13: 5902738067605 | E13: 388324-54-58 | G13: Modo X I Black 120 Frame | H13: чёрный | I13: 1200x2000 | J13: Frame | K13: 10 мм | L13: 1126 | M13: Под заказ
D14: 5902738067643 | E14: 388334-54-58 | G14: Modo X I Black 130 Frame | H14: чёрный | I14: 1300x2000 | J14: Frame | K14: 10 мм | L14: 1189 | M14: Под заказ
D15: 5902738093703 | E15: 388344-54-58 | G15: Modo X I Black 140 Frame | H15: чёрный | I15: 1400x2000 | J15: Frame | K15: 10 мм | L15: 1243 | M15: Под заказ
D16: 5902738093710 | E16: 388354-54-58 | G16: Modo X I Black 150 Frame | H16: чёрный | I16: 1500x2000 | J16: Frame | K16: 10 мм | L16: 1310 | M16: Под заказ
D17: 5902738093727 | E17: 388364-54-58 | G17: Modo X I Black 160 Frame | H17: чёрный | I17: 1600x2000 | J17: Frame | K17: 10 мм | L17: 1327 | M17: Под заказ
B18: Modo X Black I Factory | C18: Walk-in | D18: 5902738067599 | E18: 388324-54-57 | G18: Modo X I Black 120 Factory | H18: чёрный | I18: 1200x2000 | J18: Factory | K18: 10 мм | L18: 1126 | M18: Под заказ
D19: 5902738067636 | E19: 388334-54-57 | G19: Modo X I Black 130 Factory | H19: чёрный | I19: 1300x2000 | J19: Factory | K19: 10 мм | L19: 1189 | M19: Под заказ
D20: 5902738093673 | E20: 388344-54-57 | G20: Modo X I Black 140 Factory | H20: чёрный | I20: 1400x2000 | J20: Factory | K20: 10 мм | L20: 1243 | M20: Под заказ
D21: 5902738093680 | E21: 388354-54-57 | G21: Modo X I Black 150 Factory | H21: чёрный | I21: 1500x2000 | J21: Factory | K21: 10 мм | L21: 1310 | M21: Под заказ
D22: 5902738093697 | E22: 388364-54-57 | G22: Modo X I Black 160 Factory | H22: чёрный | I22: 1600x2000 | J22: Factory | K22: 10 мм | L22: 1327 | M22: Под заказ
G23: Душевые перегородки
B24: Modo I | C24: Walk-in Существует возможность установить душевую перегородку со стационарной, Г-образной стенкой SW шириной 300 мм. Она может применяться только со стеклом толщиной 8 мм. В этом случае при заказе также укажите номер артикула стенки: хром – 388000-01-01, черный – 388000-54-01. | D24: 5902738041124 | E24: 388124-01-01 | G24: Modo I 120 | H24: хром | I24: 1200x2000 | J24: прозрачное | K24: 8 мм | L24: 575 | M24: Под заказ
D25: 5902738041131 | E25: 388134-01-01 | G25: Modo I 130 | H25: хром | I25: 1300x2000 | J25: прозрачное | K25: 8 мм | L25: 601 | M25: Под заказ
D26: 5902738041148 | E26: 388144-01-01 | G26: Modo I 140 | H26: хром | I26: 1400x2000 | J26: прозрачное | K26: 8 мм | L26: 617 | M26: Под заказ
D27: 5902738041155 | E27: 388154-01-01 | G27: Modo I 150 | H27: хром | I27: 1500x2000 | J27: прозрачное | K27: 8 мм | L27: 643 | M27: Под заказ
D28: 5902738041162 | E28: 388164-01-01 | G28: Modo I 160 | H28: хром | I28: 1600x2000 | J28: прозрачное | K28: 8 мм | L28: 668 | M28: Под заказ
D29: 5902738041179 | E29: 388901-01-01 | G29: Modo I 120-150x150-230 | H29: хром | I29: extent 1200-1500 x 1500-2300 | J29: прозрачное | K29: 8 мм | L29: 781 | M29: Под заказ
D30: 5902738041186 | E30: 388902-01-01 | G30: Modo I 150-180x150-230 | H30: хром | I30: extent 1501-1800 x 1500-2300 | J30: прозрачное | K30: 8 мм | L30: 802 | M30: Под заказ
G31: Дополнительные возможности
D32: 5902738064970 | E32: 388000-01-01 | G32: Modo I Side Wall (Боковая стенка) | H32: хром | I32: 300x2000 | J32: прозрачное | K32: 8 мм | L32: 206 | M32: Под заказ
E33: WD-008-02 | G33: Стабилизатор к потолку - высота max 3000 мм | H33: хром | I33: - | J33: - | L33: 187 | M33: Под заказ
D34: 5902738056296 | E34: 388124-54-01 | G34: Modo I Black 120 | H34: чёрный | I34: 1200x2000 | J34: прозрачное | K34: 8 мм | L34: 634 | M34: Под заказ
D35: 5902738056302 | E35: 388134-54-01 | G35: Modo I Black 130 | H35: чёрный | I35: 1300x2000 | J35: прозрачное | K35: 8 мм | L35: 668 | M35: Под заказ
D36: 5902738056319 | E36: 388144-54-01 | G36: Modo I Black 140 | H36: чёрный | I36: 1400x2000 | J36: прозрачное | K36: 8 мм | L36: 689 | M36: Под заказ
D37: 5902738056326 | E37: 388154-54-01 | G37: Modo I Black 150 | H37: чёрный | I37: 1500x2000 | J37: прозрачное | K37: 8 мм | L37: 714 | M37: Под заказ
D38: 5902738056333 | E38: 388164-54-01 | G38: Modo I Black 160 | H38: чёрный | I38: 1600x2000 | J38: прозрачное | K38: 8 мм | L38: 739 | M38: Под заказ
D39: 5902738056340 | E39: 388901-54-01 | G39: Modo Black I 120-150x150-230 | H39: чёрный | I39: extent 1200-1500 x 1500-2300 | J39: прозрачное | K39: 8 мм | L39: 869 | M39: Под заказ
D40: 5902738056357 | E40: 388902-54-01 | G40: Modo Black I 150-180x150-230 | H40: чёрный | I40: extent 1501-1800 x 1500-2300 | J40: прозрачное | K40: 8 мм | L40: 890 | M40: Под заказ
...

Sheet Arta QL
B1: Коллекция | C1: Модель | D1: Штрих код | E1: Код товара | G1: Наименование | H1: Цвет | I1: Размер, мм | J1: Цвет стекла | K1: Толщина стекла, мм | L1: РРЦ, € с 1.08.26 | M1: Склад/ под заказ | N1: Доп. информация | O1: 🛑 Коллекция выходит из ассортимента. Доступна до окончания запасов фабрики. Наличие уточняйте
G2: Однодверная распашная душевая кабина
B3: Arta QL | C3: KDJ I В заказе надо указать 2 номера артикулов: двери и боковой стенки S1 и заполнить бланк заказа. Данное изделие доступно с фурнитурой цвета: 03 Chrome+ | D3: 5902738084541 | E3: 10102501-03-01L | G3: Дверь Arta QL KDJ I 50-100 Left | H3: хром+ | I3: 500-1000x2000 | J3: прозрачное | K3: 8 мм | L3: 1285 | M3: Под заказ | N3: Цена для спец.заказа
D4: 5902738084558 | E4: 10102501-03-01R | G4: Дверь Arta QL KDJ I 50-100 Right | H4: хром+ | I4: 500-1000x2000 | J4: прозрачное | K4: 8 мм | L4: 1285 | M4: Под заказ | N4: Цена для спец.заказа
D5: 5902738084695 | E5: 10102509-03-01 | G5: Arta QL S1 30-100 | H5: хром+ | I5: 300-1000x2000 | J5: прозрачное | K5: 8 мм | L5: 659 | M5: Под заказ | N5: Цена для спец.заказа
D6: 5902738084701 | E6: 10102510-03-01 | G6: Arta QL S1 100-150 | H6: хром+ | I6: 300-1000x2000 | J6: прозрачное | K6: 8 мм | L6: 727 | M6: Под заказ | N6: Цена для спец.заказа
G7: Двухдверная распашная душевая кабина
B8: Arta QL | C8: KDD I В заказе надо указать 2 номера артикулов: левой и правой части кабины и заполнить бланк заказа. Данное изделие доступно с фурнитурой цвета: 03 Chrome+ | D8: 5902738084565 | E8: 10102502-03-01L | G8: Arta QL KDD I 50-100 Left | H8: хром+ | I8: 500-1000x2000 | J8: прозрачное | K8: 8 мм | L8: 1050 | M8: Под заказ
D9: 5902738084572 | E9: 10102502-03-01R | G9: Arta QL KDD I 50-100 Right | H9: хром+ | I9: 500-1000x2000 | J9: прозрачное | K9: 8 мм | L9: 1050 | M9: Под заказ
G10: Однодверная распашная дверь в нишу
B11: Arta QL | C11: DWJ I При размещении заказа следует указать № арт. и заполнить бланк. Данное изделие доступно с фурнитурой цвета: 03 Chrome+ | D11: 5902738084589 | E11: 10102503-03-01L | G11: Arta QL DWJ I 50-100 Left | H11: хром+ | I11: 500-1000x2000 | J11: прозрачное | K11: 8 мм | L11: 1151 | M11: Под заказ
D12: 5902738084596 | E12: 10102503-03-01R | G12: Arta QL DWJ I 50-100 Right | H12: хром+ | I12: 500-1000x2000 | J12: прозрачное | K12: 8 мм | L12: 1151 | M12: Под заказ
G13: Однодверная распашная дверь в нишу
B14: Arta QL | C14: DWS В заказе надо указать 2 номера артикулов: створки двери и стенки и заполнить бланк заказа. Данное изделие доступно с фурнитурой цвета: 03 Chrome+ | D14: 5902738084602 | E14: 10102504-03-01L | F14: DWS 100-150 L | G14: Arta QL DWS 100-150 Left | H14: хром+ | I14: 1000-1500x2000 | J14: прозрачное | K14: 8 мм | L14: 1273 | M14: Под заказ
D15: 5902738084640 | E15: 10102506-03-01 | G15: Arta QL DWS Wall | H15: хром+ | I15: 300-1200x2000 | J15: прозрачное | K15: 8 мм | L15: 483 | M15: Под заказ
D16: 5902738084619 | E16: 10102504-03-01R | F16: DWS 100-150 R | G16: Arta QL DWS 100-150 Right | H16: хром+ | I16: 1000-1500x2000 | J16: прозрачное | K16: 8 мм | L16: 1273 | M16: Под заказ
D17: 5902738084640 | E17: 10102506-03-01 | G17: Arta QL DWS Wall | H17: хром+ | I17: 300-1200x2000 | J17: прозрачное | K17: 8 мм | L17: 483 | M17: Под заказ
D18: 5902738084626 | E18: 10102505-03-01L | F18: DWS 150-200 L | G18: Arta QL DWS 150-200 Left | H18: хром+ | I18: 1500-2000x2000 | J18: прозрачное | K18: 8 мм | L18: 1331 | M18: Под заказ
D19: 5902738084640 | E19: 10102506-03-01 | G19: Arta QL DWS Wall | H19: хром+ | I19: 300-1200x2000 | J19: прозрачное | K19: 8 мм | L19: 483 | M19: Под заказ
D20: 5902738084633 | E20: 10102505-03-01R | F20: DWS 150-200 R | G20: Arta QL DWS 150-200 Right | H20: хром+ | I20: 1500-2000x2000 | J20: прозрачное | K20: 8 мм | L20: 1331 | M20: Под заказ
D21: 5902738084640 | E21: 10102506-03-01 | G21: Arta QL DWS Wall | H21: хром+ | I21: 300-1200x2000 | J21: прозрачное | K21: 8 мм | L21: 483 | M21: Под заказ
G22: Двухдверная распашная дверь в нишу
B23: Arta QL | C23: DWD При размещении заказа следует указать 2 номера артикулов: левой и правой створок двери и заполнить бланк. Створки двери можно заказать либо в двух идентичных размерах, либо в двух разных размерах, если это необходимо. Данное изделие доступно с фурнитурой цвета: 03 Chrome+ | D23: 5902738084657 | E23: 10102507-03-01L | F23: DWD 50-100 | G23: Arta QL DWD 25-50 Left | H23: хром+ | I23: 250-500x2000 | J23: прозрачное | K23: 8 мм | L23: 920 | M23: Под заказ
D24: 5902738084664 | E24: 10102507-03-01R | G24: Arta QL DWD 25-50 Right | H24: хром+ | I24: 250-500x2000 | J24: прозрачное | K24: 8 мм | L24: 920 | M24: Под заказ
D25: 5902738084671 | E25: 10102508-03-01L | F25: DWD 100-150 | G25: Arta QL DWD 50-75 Left | H25: хром+ | I25: 500-750x2000 | J25: прозрачное | K25: 8 мм | L25: 928 | M25: Под заказ
D26: 5902738084688 | E26: 10102508-03-01R | G26: Arta QL DWD 50-75 Right | H26: хром+ | I26: 500-750x2000 | J26: прозрачное | K26: 8 мм | L26: 928 | M26: Под заказ
G27: Неподвижная шторка на ванну
B28: Arta QL | C28: PNJ I При размещении заказа следует указать № арт. и заполнить бланк. Данное изделие доступно с фурнитурой цвета: 03 Chrome+ | D28: 5902738084527 | E28: 10102500-03-01L | G28: Arta QL PNJ 30-100 Left | H28: хром+ | I28: 300-1000x1500 | J28: прозрачное | K28: 8 мм | L28: 815 | M28: Под заказ
D29: 5902738084534 | E29: 10102500-03-01R | G29: Arta QL PNJ 30-100 Right | H29: хром+ | I29: 300-1000x1500 | J29: прозрачное | K29: 8 мм | L29: 815 | M29: Под заказ

Sheet Arta
B1: Коллекция | C1: Модель | D1: Штрих код | E1: Код товара | G1: Наименование | H1: Цвет | I1: Размер | J1: Цвет стекла | K1: Толщина стекла | L1: РРЦ, € с 1.08.26 | M1: Склад/ под заказ | N1: Доп. информация | O1: 🛑 Коллекция выходит из ассортимента. Доступна до окончания запасов фабрики. Наличие уточняйте
B2: Arta | C2: Walk-in В заказе надо указать 2 номера артикулов: фронтальной части и боковой стенки. | G2: Душевая перегородка
D3: 5902738055923 | E3: 386280-03-01 | G3: Arta Walk In W3 80 | H3: хром+ | I3: 800x2000 | J3: прозрачное | K3: 8 мм | L3: 588 | M3: Под заказ
D4: 5902738055930 | E4: 386290-03-01 | G4: Arta Walk In W3 90 | H4: хром+ | I4: 900x2000 | J4: прозрачное | K4: 8 мм | L4: 609 | M4: Под заказ
D5: 5902738055947 | E5: 386210-03-01 | G5: Arta Walk In W3 100 | H5: хром+ | I5: 1000x2000 | J5: прозрачное | K5: 8 мм | L5: 672 | M5: Под заказ
D6: 5902738055954 | E6: 386211-03-01 | G6: Arta Walk In W3 110 | H6: хром+ | I6: 1100x2000 | J6: прозрачное | K6: 8 мм | L6: 701 | M6: Под заказ
D7: 5902738055961 | E7: 386212-03-01 | G7: Arta Walk In W3 120 | H7: хром+ | I7: 1200x2000 | J7: прозрачное | K7: 8 мм | L7: 727 | M7: Под заказ
D8: 5902738055978 | E8: 386213-03-01 | G8: Arta Walk In W3 130 | H8: хром+ | I8: 1300x2000 | J8: прозрачное | K8: 8 мм | L8: 802 | M8: Под заказ
D9: 5902738055985 | E9: 386214-03-01 | G9: Arta Walk In W3 140 | H9: хром+ | I9: 1400x2000 | J9: прозрачное | K9: 8 мм | L9: 832 | M9: Под заказ
G10: Подвижная боковая стенка
D11: 5902738052465 | E11: 386010-03-01L | G11: Arta WALK IN C Боковая стенка 40 Left | H11: хром+ | I11: 400x2000 | J11: прозрачное | K11: 8 мм | L11: 865 | M11: Под заказ
D12: 5902738052472 | E12: 386010-03-01R | G12: Arta WALK IN C Боковая стенка 40 Right | H12: хром+ | I12: 400x2000 | J12: прозрачное | K12: 8 мм | L12: 865 | M12: Под заказ
B13: Arta | G13: Однодверная распашная душевая кабина
C14: KDJ I В заказе надо указать 2 номера артикулов: двери и боковой стенки S1. | D14: 5902738035987 | E14: 1386081-03-01L | G14: ARTA KDJ I Дверь 80 L | H14: хром+ | I14: 800x2000 | J14: прозрачное | K14: 8 мм | L14: 1268 | M14: Под заказ
D15: 5902738035987 | E15: 1386081-03-01R | G15: ARTA KDJ I Дверь 80 R | H15: хром+ | I15: 800x2000 | J15: прозрачное | K15: 8 мм | L15: 1268 | M15: Под заказ
D16: 5902738035994 | E16: 1386082-03-01L | G16: ARTA KDJ I Дверь 90 L | H16: хром+ | I16: 900x2000 | J16: прозрачное | K16: 8 мм | L16: 1315 | M16: Под заказ
D17: 5902738036007 | E17: 1386082-03-01R | G17: ARTA KDJ I Дверь 90 R | H17: хром+ | I17: 900x2000 | J17: прозрачное | K17: 8 мм | L17: 1315 | M17: Под заказ
D18: 5902738036014 | E18: 1386083-03-01L | G18: ARTA KDJ I Дверь 100 L | H18: хром+ | I18: 1000x2000 | J18: прозрачное | K18: 8 мм | L18: 1336 | M18: Под заказ
D19: 5902738036021 | E19: 1386083-03-01R | G19: ARTA KDJ I Дверь 100 R | H19: хром+ | I19: 1000x2000 | J19: прозрачное | K19: 8 мм | L19: 1336 | M19: Под заказ
G20: Боковая стенка
D21: 5902738056135 | E21: 386019-03-01 | G21: ARTA боковая стенка S1 70 | H21: хром+ | I21: 700x2000 | J21: прозрачное | K21: 8 мм | L21: 533 | M21: Под заказ
D22: 5902738063881 | E22: 386018-03-01 | G22: ARTA боковая стенка S1 75 | H22: хром+ | I22: 750x2000 | J22: прозрачное | K22: 8 мм | L22: 542 | M22: Под заказ
D23: 5902738035406 | E23: 386020-03-01 | G23: ARTA боковая стенка S1 80 | H23: хром+ | I23: 800x2000 | J23: прозрачное | K23: 8 мм | L23: 575 | M23: Под заказ
D24: 5902738035413 | E24: 386021-03-01 | G24: ARTA боковая стенка S1 90 | H24: хром+ | I24: 900x2000 | J24: прозрачное | K24: 8 мм | L24: 592 | M24: Под заказ
D25: 5902738035420 | E25: 386022-03-01 | G25: ARTA боковая стенка S1 100 | H25: хром+ | I25: 1000x2000 | J25: прозрачное | K25: 8 мм | L25: 659 | M25: Под заказ
D26: 5902738035437 | E26: 386023-03-01 | G26: ARTA боковая стенка S1 110 | H26: хром+ | I26: 1100x2000 | J26: прозрачное | K26: 8 мм | L26: 676 | M26: Под заказ
D27: 5902738035444 | E27: 386024-03-01 | G27: ARTA боковая стенка S1 120 | H27: хром+ | I27: 1200x2000 | J27: прозрачное | K27: 8 мм | L27: 693 | M27: Под заказ
G28: Однодверная распашная душевая кабина
B29: Arta | C29: KDJ II В заказе надо указать 3 номера артикулов: фронтальной части кабины (два номера) и боковой стенки S1. | D29: 5902738041599 | E29: 386420-03-01L | F29: KDJ II 80 L | G29: ARTA Дверь G 520 L | H29: хром+ | I29: 520x2000 | J29: прозрачное | K29: 8 мм | L29: 680 | M29: Под заказ
D30: 5902738035635 | E30: 1386040-03-01L | G30: ARTA KDJ II Неподвижная стенка 227 L | H30: хром+ | I30: 227x2000 | J30: прозрачное | K30: 8 мм | L30: 735 | M30: Под заказ
D31: 5902738041605 | E31: 386420-03-01R | F31: KDJ II 80 R | G31: ARTA Дверь G 520 R | H31: хром+ | I31: 520x2000 | J31: прозрачное | K31: 8 мм | L31: 680 | M31: Под заказ
D32: 5902738035642 | E32: 1386040-03-01R | G32: ARTA KDJ II Неподвижная стенка 227 R | H32: хром+ | I32: 227x2000 | J32: прозрачное | K32: 8 мм | L32: 735 | M32: Под заказ
D33: 5902738041537 | E33: 386455-03-01L | F33: KDJ II 90 L | G33: ARTA Дверь G 620 L | H33: хром+ | I33: 620x2000 | J33: прозрачное | K33: 8 мм | L33: 718 | M33: Под заказ
D34: 5902738035635 | E34: 1386040-03-01L | G34: ARTA KDJ II Неподвижная стенка 227 L | H34: хром+ | I34: 227x2000 | J34: прозрачное | K34: 8 мм | L34: 735 | M34: Под заказ
D35: 5902738041544 | E35: 386455-03-01R | F35: KDJ II 90 R | G35: ARTA Дверь G 620 R | H35: хром+ | I35: 620x2000 | J35: прозрачное | K35: 8 мм | L35: 718 | M35: Под заказ
D36: 5902738035642 | E36: 1386040-03-01R | G36: ARTA KDJ II Неподвижная стенка 227 R | H36: хром+ | I36: 227x2000 | J36: прозрачное | K36: 8 мм | L36: 735 | M36: Под заказ
D37: 5902738041537 | E37: 386455-03-01L | F37: KDJ II 100 L | G37: ARTA Дверь G 620 L | H37: хром+ | I37: 620x2000 | J37: прозрачное | K37: 8 мм | L37: 718 | M37: Под заказ
D38: 5902738035673 | E38: 1386042-03-01L | G38: ARTA KDJ II Неподвижная стенка 327 L | H38: хром+ | I38: 327x2000 | J38: прозрачное | K38: 8 мм | L38: 756 | M38: Под заказ
D39: 5902738041544 | E39: 386455-03-01R | F39: KDJ II 100 R | G39: ARTA Дверь G 620 R | H39: хром+ | I39: 620x2000 | J39: прозрачное | K39: 8 мм | L39: 718 | M39: Под заказ
D40: 5902738035680 | E40: 1386042-03-01R | G40: ARTA KDJ II Неподвижная стенка 327 R | H40: хром+ | I40: 327x2000 | J40: прозрачное | K40: 8 мм | L40: 756 | M40: Под заказ
...

Sheet Euphoria
B1: Коллекция | C1: Модель | D1: Штрих код | E1: Код товара | G1: Наименование | H1: Цвет | I1: Размер | J1: Цвет стекла | K1: Толщина стекла | L1: РРЦ, € с 1.08.26 | M1: Склад/ под заказ | N1: Доп. информация | O1: 🛑 Коллекция выходит из ассортимента. Доступна до окончания запасов фабрики. Наличие уточняйте
B2: Euphoria I | C2: Walk-in В заказе надо указать 3 номера артикулов: фронтальной части W4 и двух боковых стенок SW | G2: Душевая перегородка
G3: Фронтальная часть
D4: 5902738033754 | E4: 383144-01-01 | G4: Фронтальная часть Euphoria Walk- in W4 120 | H4: хром | I4: 1200x2000 | J4: прозрачное | K4: 8 мм | L4: 466 | M4: Под заказ
D5: 5902738033761 | E5: 383145-01-01 | G5: Фронтальная часть Euphoria Walk- in W4 130 | H5: хром | I5: 1300x2000 | J5: прозрачное | K5: 8 мм | L5: 487 | M5: Под заказ
D6: 5902738033778 | E6: 383146-01-01 | G6: Фронтальная часть Euphoria Walk- in W4 140 | H6: хром | I6: 1400x2000 | J6: прозрачное | K6: 8 мм | L6: 508 | M6: Под заказ
G7: Боковая стенка SW
